Workbook

Sheet раздел 1
A1: ОТЧЕТ ОБ ИСПОЛНЕНИИ ПРОИЗВОДСТВЕННОЙ ПРОГРАММЫ
A2: в сфере холодного водоснабжения (питьевая вода (питьевое водоснабжение)) МП ЖКХ Билибинского муниципального района за 2025 год
A4: Раздел 1. Паспорт производственной программы
A5: Наименование регулируемой организации | B5: МП ЖКХ Билибинского муниципального района
A6: Местонахождение регулируемой организации | B6: 689450, Чукотский автономный округ, г. Билибино, ул. Геологов д. 1а
A7: Наименование уполномоченного органа | B7: Комитет государственного регулирования цен и тарифов Чукотского автономного округа
A8: Местонахождение уполномоченного органа | B8: 689000, Чукотский автономный округ, г. Анадырь, ул. Отке, 44
A11: Руководитель организации | B11: С.И. Брычаев
A12: (должность) | B12: (ФИО, подпись)

Sheet раздел 2
A1: Раздел 2. Баланс водоснабжения (питьевая вода (питьевое водоснабжение))
A2: № п/п | B2: Наименование | C2: Единица измерения | D2: Показатели производственной деятельности
D3: участок Билибино | AB3: участок Анюйск | AZ3: участок Илирней | BX3: участок Кепервеем | CV3: участок Омолон | DT3: участок Островное
D4: 2019 год | H4: 2020 год | L4: 2021 год | P4: 2022 год | T4: 2023 год | X4: 2025 год | AB4: 2019 год | AF4: 2020 год | AJ4: 2021 год | AN4: 2022 год | AR4: 2023 год | AV4: 2025 год | AZ4: 2019 год | BD4: 2020 год | BH4: 2021 год | BL4: 2022 год | BP4: 2023 год | BT4: 2025 год | BX4: 2019 год | CB4: 2020 год | CF4: 2021 год | CJ4: 2022 год | CN4: 2023 год | CR4: 2025 год | CV4: 2019 год | CZ4: 2020 год | DD4: 2021 год | DH4: 2022 год | DL4: 2023 год | DP4: 2025 год | DT4: 2019 год | DX4: 2020 год | EB4: 2021 год | EF4: 2022 год | EJ4: 2023 год | EN4: 2025 год
D5: план | E5: факт | H5: план | I5: факт | L5: план | M5: факт | P5: план | Q5: факт | T5: план | U5: факт | X5: план | Y5: факт | AB5: план | AC5: факт | AF5: план | AG5: факт | AJ5: план | AK5: факт | AN5: план | AO5: факт | AR5: план | AS5: факт | AV5: план | AW5: факт | AZ5: план | BA5: факт | BD5: план | BE5: факт | BH5: план | BI5: факт | BL5: план | BM5: факт | BP5: план | BQ5: факт | BT5: план | BU5: факт | BX5: план | BY5: факт | CB5: план | CC5: факт | CF5: план | CG5: факт | CJ5: план | CK5: факт | CN5: план | CO5: факт | CR5: план | CS5: факт | CV5: план | CW5: факт | CZ5: план | DA5: факт | DD5: план | DE5: факт | DH5: план | DI5: факт | DL5: план | DM5: факт | DP5: план | DQ5: факт | DT5: план | DU5: факт | DX5: план | DY5: факт | EB5: план | EC5: факт | EF5: план | EG5: факт | EJ5: план | EK5: факт | EN5: план | EO5: факт
D6: год | E6: 1 полугодие | F6: 2 полугодие | G6: 58176.364 | H6: год | I6: 1 полугодие | J6: 2 полугодие | K6: год | L6: год | M6: 1 полугодие | N6: 2 полугодие | O6: год | P6: год | Q6: 1 полугодие | R6: 2 полугодие | S6: год | T6: год | U6: 1 полугодие | V6: 2 полугодие | W6: год | X6: год | Y6: 1 полугодие | Z6: 2 полугодие | AA6: год | AB6: год | AC6: 1 полугодие | AD6: 2 полугодие | AE6: год | AF6: год | AG6: 1 полугодие | AH6: 2 полугодие | AI6: год | AJ6: год | AK6: 1 полугодие | AL6: 2 полугодие | AM6: год | AN6: год | AO6: 1 полугодие | AP6: 2 полугодие | AQ6: год | AR6: год | AS6: 1 полугодие | AT6: 2 полугодие | AU6: год | AV6: год | AW6: 1 полугодие | AX6: 2 полугодие | AY6: год | AZ6: год | BA6: 1 полугодие | BB6: 2 полугодие | BC6: год | BD6: год | BE6: 1 полугодие | BF6: 2 полугодие | BG6: год | BH6: год | BI6: 1 полугодие | BJ6: 2 полугодие | BK6: год | BL6: год | BM6: 1 полугодие | BN6: 2 полугодие | BO6: год | BP6: год | BQ6: 1 полугодие | BR6: 2 полугодие | BS6: год | BT6: год | BU6: 1 полугодие | BV6: 2 полугодие | BW6: год | BX6: год | BY6: 1 полугодие | BZ6: 2 полугодие | CA6: год | CB6: год | CC6: 1 полугодие | CD6: 2 полугодие | CE6: год | CF6: год | CG6: 1 полугодие | CH6: 2 полугодие | CI6: год | CJ6: год | CK6: 1 полугодие | CL6: 2 полугодие | CM6: год | CN6: год | CO6: 1 полугодие | CP6: 2 полугодие | CQ6: год | CR6: год | CS6: 1 полугодие | CT6: 2 полугодие | CU6: год | CV6: год | CW6: 1 полугодие | CX6: 2 полугодие | CY6: год | CZ6: год | DA6: 1 полугодие | DB6: 2 полугодие | DC6: год | DD6: год | DE6: 1 полугодие | DF6: 2 полугодие | DG6: год | DH6: год | DI6: 1 полугодие | DJ6: 2 полугодие | DK6: год | DL6: год | DM6: 1 полугодие | DN6: 2 полугодие | DO6: год | DP6: год | DQ6: 1 полугодие | DR6: 2 полугодие | DS6: год | DT6: год | DU6: 1 полугодие | DV6: 2 полугодие | DW6: год | DX6: год | DY6: 1 полугодие | DZ6: 2 полугодие | EA6: год | EB6: год | EC6: 1 полугодие | ED6: 2 полугодие | EE6: год | EF6: год | EG6: 1 полугодие | EH6: 2 полугодие | EI6: год | EJ6: год | EK6: 1 полугодие | EL6: 2 полугодие | EM6: год | EN6: год | EO6: 1 полугодие | EP6: 2 полугодие | EQ6: год
A7: 1 | B7: 2 | C7: 3 | D7: =C7+1 -> 4 | E7: 5 | F7: 6 | G7: 7 | H7: 8 | I7: =H7+1 -> 9 | J7: =I7+1 -> 10 | K7: =J7+1 -> 11 | L7: 8 | M7: =L7+1 -> 9 | N7: =M7+1 -> 10 | O7: =N7+1 -> 11 | P7: 8 | Q7: =P7+1 -> 9 | R7: =Q7+1 -> 10 | S7: =R7+1 -> 11 | T7: 4 | U7: =T7+1 -> 5 | V7: =U7+1 -> 6 | W7: 5 | X7: 4 | Y7: 5 | Z7: 6 | AA7: 7 | AB7: =AA7+1 -> 8 | AC7: =AB7+1 -> 9 | AD7: =AC7+1 -> 10 | AE7: =AD7+1 -> 11 | AF7: =AE7+1 -> 12 | AG7: =AF7+1 -> 13 | AH7: =AG7+1 -> 14 | AI7: =AH7+1 -> 15 | ... AQ7: =AP7+1 -> 23 | AR7: 10 | AS7: =AR7+1 -> 11 | AT7: =AS7+1 -> 12 | AU7: 11 | AV7: 8 | AW7: 9 | AX7: 10 | AY7: 11 | AZ7: =AY7+1 -> 12 | BA7: =AZ7+1 -> 13 | BB7: =BA7+1 -> 14 | BC7: =BB7+1 -> 15 | BD7: =BC7+1 -> 16 | BE7: =BD7+1 -> 17 | BF7: =BE7+1 -> 18 | BG7: =BF7+1 -> 19 | ... BO7: =BN7+1 -> 27 | BP7: =BK7+1 -> 24 | BQ7: =BP7+1 -> 25 | BR7: =BQ7+1 -> 26 | BS7: =BR7+1 -> 27 | BT7: 12 | BU7: 13 | BV7: 14 | BW7: 15 | BX7: =BW7+1 -> 16 | BY7: =BX7+1 -> 17 | BZ7: =BY7+1 -> 18 | CA7: =BZ7+1 -> 19 | CB7: =CA7+1 -> 20 | CC7: =CB7+1 -> 21 | CD7: =CC7+1 -> 22 | CE7: =CD7+1 -> 23 | ... CM7: =CL7+1 -> 31 | CN7: =CI7+1 -> 28 | CO7: =CN7+1 -> 29 | CP7: =CO7+1 -> 30 | CQ7: =CP7+1 -> 31 | CR7: 16 | CS7: 17 | CT7: 18 | CU7: 19 | CV7: =CU7+1 -> 20 | CW7: =CV7+1 -> 21 | CX7: =CW7+1 -> 22 | CY7: =CX7+1 -> 23 | CZ7: =CY7+1 -> 24 | DA7: =CZ7+1 -> 25 | DB7: =DA7+1 -> 26 | DC7: =DB7+1 -> 27 | ... DK7: =DJ7+1 -> 35 | DL7: =DG7+1 -> 32 | DM7: =DL7+1 -> 33 | DN7: =DM7+1 -> 34 | DO7: =DN7+1 -> 35 | DP7: 20 | DQ7: 22 | DR7: 22 | DS7: 23 | DT7: =DP7+1 -> 21 | DU7: =DT7+1 -> 22 | DV7: =DU7+1 -> 23 | DW7: =DV7+1 -> 24 | DX7: =DW7+1 -> 25 | DY7: =DX7+1 -> 26 | DZ7: =DY7+1 -> 27 | EA7: =DZ7+1 -> 28 | EB7: =EA7+1 -> 29 | ... EI7: =EH7+1 -> 36 | EJ7: =EE7+1 -> 33 | EK7: =EJ7+1 -> 34 | EL7: =EK7+1 -> 35 | EM7: =EL7+1 -> 36 | EN7: 24 | EO7: 25 | EP7: =EO7+1 -> 26 | EQ7: =EP7+1 -> 27
A8: 1. | B8: Объем воды из источников водоснабжения: | C8: куб.м | AB8: 41324.959 | AC8: 18233.814 | AD8: 18193.099 | AE8: 36426.913 | AF8: 41324.959 | AG8: 15849.023 | AH8: 15112.44 | AI8: 30961.463 | AJ8: 39279.288 | AK8: 0 | AL8: 0 | AM8: 0 | AN8: 35527.972 | AO8: 14827.509 | AP8: 13924.33 | AQ8: 28751.839 | AR8: 32417.704 | AS8: 14750.088 | AT8: 15161.88 | AU8: 29911.968 | AV8: 29509.517 | AW8: 13056.609 | AX8: 11732.493 | AY8: 24789.102 | AZ8: 19883.667 | BA8: 9730 | BB8: 8691 | BC8: 18421 | BD8: 19883.667 | BE8: 8817 | BF8: 7941 | BG8: 16758 | BH8: 19146.857 | BI8: 0 | BJ8: 0 | BK8: 0 | BL8: 18203.667 | BM8: 8660 | BN8: 7447 | BO8: 16107 | BP8: 17415.333 | BQ8: 8123 | BR8: 7414 | BS8: 15537 | BT8: 16237 | BU8: 7485 | BV8: 6984 | BW8: 14469 | BX8: 32734.05 | BY8: 15334.924 | BZ8: 13627.937 | CA8: 28962.861 | CB8: 32734.05 | CC8: 13603.849 | CD8: 13544.665 | CE8: 27148.514 | CF8: 30918.139 | CG8: 0 | CH8: 0 | CI8: 0 | CJ8: 29658.509 | CK8: 13456.791 | CL8: 13635.141 | CM8: 27091.932 | CN8: 27361.909 | CO8: 12779.259 | CP8: 12658.887 | CQ8: 25438.146 | CR8: 26168.143 | CS8: 13980.801 | CT8: 13666.203 | CU8: 27647.004 | CV8: 26938.349 | CW8: 10365.67 | CX8: 9838.064 | CY8: 20203.734 | CZ8: 24805.871 | DA8: 9782.084 | DB8: 10330.288 | DC8: 20112.372 | DD8: 22941.848 | DE8: 0 | DF8: 0 | DG8: 0 | DH8: 21288.137 | DI8: 8965.984 | DJ8: 8895.828 | DK8: 17861.812 | DL8: 19916.398 | DM8: 9057.828 | DN8: 6988.662 | DO8: 16046.49 | DP8: 17780.463 | DQ8: 7256.782 | DR8: 7429.711 | DS8: 14686.493 | DT8: 27733.038 | DU8: 13121.49 | DV8: 13103.073 | DW8: 26224.563 | DX8: 27733.038 | DY8: 12743.747 | DZ8: 12158.178 | EA8: 24901.925 | EB8: 27192.629 | EC8: 0 | ED8: 0 | EE8: 0 | EF8: 27192.629 | EG8: 12635.255 | EH8: 12388.443 | EI8: 25023.698 | EJ8: 25327.456 | EK8: 12189.535 | EL8: 12461.305 | EM8: 24650.84 | EN8: 24843.473 | EO8: 12393.919 | EP8: 12985.465 | EQ8: 25379.384
A9: 1.1 | B9: из поверхностных источников | C9: куб.м | AB9: 41324.959 | AC9: 18233.814 | AD9: 18193.099 | AE9: 36426.913 | AF9: 41324.959 | AG9: 15849.023 | AH9: 15112.44 | AI9: 30961.463 | AJ9: 39279.288 | AM9: 0 | AN9: 35527.972 | AO9: 14827.509 | AP9: 13924.33 | AQ9: 28751.839 | AR9: 32417.704 | AS9: 14750.088 | AT9: 15161.88 | AU9: 29911.968 | AV9: 29509.517 | AW9: 13056.609 | AX9: 11732.493 | AY9: 24789.102 | BG9: 0 | BK9: 0 | BO9: 0 | BS9: 0 | EM9: 0 | EQ9: 0
A10: 1.2 | B10: из подземных источников | C10: куб.м | AZ10: 19883.667 | BA10: 9730 | BB10: 8691 | BC10: 18421 | BD10: 19883.667 | BE10: 8817 | BF10: 7941 | BG10: 16758 | BH10: 19146.857 | BK10: 0 | BL10: 18203.667 | BM10: 8660 | BN10: 7447 | BO10: 16107 | BP10: 17415.333 | BQ10: 8123 | BR10: 7414 | BS10: 15537 | BT10: 16237 | BU10: 7485 | BV10: 6984 | BW10: 14469 | BX10: 32734.05 | BY10: 15334.924 | BZ10: 13627.937 | CA10: 28962.861 | CB10: 32734.05 | CC10: 13603.849 | CD10: 13544.665 | CE10: 27148.514 | CF10: 30918.139 | CI10: 0 | CJ10: 29658.509 | CK10: 13456.791 | CL10: 13635.141 | CM10: 27091.932 | CN10: 27361.909 | CO10: 12779.259 | CP10: 12658.887 | CQ10: 25438.146 | CR10: 26168.143 | CS10: 13980.801 | CT10: 13666.203 | CU10: 27647.004 | CV10: 26938.349 | CW10: 10365.67 | CX10: 9838.064 | CY10: 20203.734 | CZ10: 24805.871 | DA10: 9782.084 | DB10: 10330.288 | DC10: 20112.372 | DD10: 22941.848 | DG10: 0 | DH10: 21288.137 | DI10: 8965.984 | DJ10: 8895.828 | DK10: 17861.812 | DL10: 19916.398 | DM10: 9057.828 | DN10: 6988.662 | DO10: 16046.49 | DP10: 17780.463 | DQ10: 7256.782 | DR10: 7429.711 | DS10: 14686.493 | DT10: 27733.038 | DU10: 13121.49 | DV10: 13103.073 | DW10: 26224.563 | DX10: 27733.038 | DY10: 12743.747 | DZ10: 12158.178 | EA10: 24901.925 | EB10: 27192.629 | EE10: 0 | EF10: 27192.629 | EG10: 12635.255 | EH10: 12388.443 | EI10: 25023.698 | EJ10: 25327.456 | EK10: 12189.535 | EL10: 12461.305 | EM10: 24650.84 | EN10: 24843.473 | EO10: 12393.919 | EP10: 12985.465 | EQ10: 25379.384
A11: 2. | B11: Объем воды от других операторов (покупка воды) | C11: куб.м | D11: 1187400 | E11: 555336 | F11: 513763 | G11: =E11+F11 -> 1069099 | H11: =D11 -> 1187400 | I11: 564074 | J11: 486134 | K11: =I11+J11 -> 1050208 | L11: 1130000 | O11: =M11+N11 -> 0 | P11: 1080238.7 | Q11: =[1]Билиб!E14 -> 569084 | R11: =[1]Билиб!F14 -> 458114 | S11: =Q11+R11 -> 1027198 | T11: 1063285.7 | U11: 488100 | V11: 439076 | W11: =U11+V11 -> 927176 | X11: 954027.96 | Y11: 489722 | Z11: 433004 | AA11: 922726 | EA11: 0 | EB11: 0 | EE11: 0 | EF11: 0 | EI11: 0 | EJ11: 0 | EM11: 0 | EN11: 0 | EQ11: 0
A12: 3. | B12: Потребление на собственные нужды | C12: куб.м | D12: 51513.014 | E12: 20801.152 | F12: 24900.144 | G12: =E12+F12 -> 45701.296 | H12: =D12 -> 51513.014 | I12: 24075.128 | J12: 17745.655 | K12: =I12+J12 -> 41820.783 | L12: 45889.855 | O12: =M12+N12 -> 0 | P12: 43887.639 | Q12: =[1]Билиб!E15 -> 31306.596 | R12: =[1]Билиб!F15 -> 18815.349 | S12: =Q12+R12 -> 50121.945 | T12: 42528.042 | U12: 19669.32 | V12: 15527.438 | W12: =U12+V12 -> 35196.758 | X12: 41793.584 | Y12: 16170.777 | Z12: 18889.07 | AA12: 35059.847 | AB12: 1703.272 | AC12: 542 | AD12: 1290 | AE12: 1832 | AF12: 1703.272 | AG12: 970 | AH12: 1180 | AI12: 2150 | AJ12: 1805.091 | AM12: 0 | AN12: 1954 | AO12: 320 | AP12: 580 | AQ12: 900 | AR12: 1994 | AS12: 320 | AT12: 1230 | AU12: 1550 | AV12: 1483.334 | AW12: 1880 | AX12: 2020 | AY12: 3900 | AZ12: 199.333 | BA12: 95.318 | BB12: 86.551 | BC12: 181.869 | BD12: 199.333 | BE12: 88.326 | BF12: 79.767 | BG12: 168.093 | BH12: 195.29 | BK12: 0 | BL12: 180.321 | BM12: 87.925 | BN12: 75.246 | BO12: 163.171 | BP12: 173.737 | BQ12: 81.598 | BR12: 74.223 | BS12: 155.821 | BT12: 170.4509 | BU12: 75.308 | BV12: 70.135 | BW12: 145.443 | BX12: 324.103 | BY12: 152.359 | BZ12: 135.292 | CA12: 287.651 | CB12: 324.103 | CC12: 136.037 | CD12: 135.446 | CE12: 271.483 | CF12: 307.31 | CI12: 0 | CJ12: 295.283 | CK12: 134.568 | CL12: 136.351 | CM12: 270.919 | CN12: 272.959 | CO12: 127.794 | CP12: 126.588 | CQ12: 254.382 | CR12: 276.796 | CS12: 139.809 | CT12: 136.662 | CU12: 276.471 | CV12: 261.747 | CW12: 100.64 | CX12: 94.58 | CY12: 195.22 | CZ12: 242.65 | DA12: 96.86 | DB12: 102.3 | DC12: 199.16 | DD12: 222.56 | DG12: 0 | DH12: 207.623 | DI12: 88.77 | DJ12: 88.08 | DK12: 176.85 | DL12: 195.59 | DM12: 89.68 | DN12: 69.19 | DO12: 158.87 | DP12: 176.037 | DQ12: 71.85 | DR12: 73.56 | DS12: 145.41 | DT12: 257.267 | DU12: 109.519 | DV12: 117.928 | DW12: 227.447 | DX12: 257.267 | DY12: 114.694 | DZ12: 109.424 | EA12: 224.118 | EB12: 223.417 | EE12: 0 | EF12: 223.417 | EG12: 113.718 | EH12: 111.496 | EI12: 225.214 | EJ12: 225.089 | EK12: 109.706 | EL12: 112.152 | EM12: 221.858 | EN12: 235.691 | EO12: 111.544 | EP12: 116.869 | EQ12: 228.413
A13: 4. | B13: Объем питьевой воды, поданной в сеть | C13: куб.м | D13: =D8+D11-D12 -> 1135887 | E13: =E8+E11-E12 -> 534534.85 | F13: =F8+F11-F12 -> 488862.86 | G13: =G8+G11-G12 -> 1023397.7 | H13: =H8+H11-H12 -> 1135887 | I13: =I8+I11-I12 -> 539998.87 | J13: =J8+J11-J12 -> 468388.34 | K13: =K8+K11-K12 -> 1008387.2 | ... W13: =W8+W11-W12 -> 891979.24 | X13: 912234.38 | Y13: 473551.22 | Z13: 414114.93 | AA13: 887666.15 | AB13: 39621.687 | AC13: 17691.814 | AD13: 16903.099 | AE13: 34594.913 | AF13: 39621.687 | AG13: 14879.023 | AH13: 13932.44 | AI13: 28811.463 | AJ13: 37474.197 | AK13: 0 | AL13: 0 | AM13: 0 | AN13: 33573.972 | AO13: 14507.509 | AP13: 13344.33 | AQ13: 27851.839 | AR13: 30423.704 | AS13: 14430.088 | AT13: 13931.88 | AU13: 28361.968 | AV13: 28026.183 | AW13: 11176.609 | AX13: 9712.493 | AY13: 20889.102 | AZ13: 19684.334 | BA13: 9634.682 | BB13: 8604.449 | BC13: 18239.131 | BD13: 19684.334 | BE13: 8728.674 | BF13: 7861.233 | BG13: 16589.907 | BH13: 18951.567 | BI13: 0 | BJ13: 0 | BK13: 0 | BL13: 18023.346 | BM13: 8572.075 | BN13: 7371.754 | BO13: 15943.829 | BP13: 17241.596 | BQ13: 8041.402 | BR13: 7339.777 | BS13: 15381.179 | BT13: 16066.549 | BU13: 7409.692 | BV13: 6913.865 | BW13: 14323.557 | BX13: 32409.947 | BY13: 15182.565 | BZ13: 13492.645 | CA13: 28675.21 | CB13: 32409.947 | CC13: 13467.812 | CD13: 13409.219 | CE13: 26877.031 | CF13: 30610.829 | CG13: 0 | CH13: 0 | CI13: 0 | CJ13: 29363.226 | CK13: 13322.223 | CL13: 13498.79 | CM13: 26821.013 | CN13: 27088.95 | CO13: 12651.465 | CP13: 12532.299 | CQ13: 25183.764 | CR13: 25891.347 | CS13: 13840.992 | CT13: 13529.541 | CU13: 27370.533 | CV13: 26676.602 | CW13: 10265.03 | CX13: 9743.484 | CY13: 20008.514 | CZ13: 24563.221 | DA13: 9685.224 | DB13: 10227.988 | DC13: 19913.212 | DD13: 22719.288 | DE13: 0 | DF13: 0 | DG13: 0 | DH13: 21080.514 | DI13: 8877.214 | DJ13: 8807.748 | DK13: 17684.962 | DL13: 19720.808 | DM13: 8968.148 | DN13: 6919.472 | DO13: 15887.62 | DP13: 17604.426 | DQ13: 7184.932 | DR13: 7356.151 | DS13: 14541.083 | DT13: 27475.771 | DU13: 13011.971 | DV13: 12985.145 | DW13: 25997.116 | DX13: 27475.771 | DY13: 12629.053 | DZ13: 12048.754 | EA13: 24677.807 | EB13: 26969.212 | EC13: 0 | ED13: 0 | EE13: 0 | EF13: 26969.212 | EG13: 12521.537 | EH13: 12276.947 | EI13: 24798.484 | EJ13: 25102.367 | EK13: 12079.829 | EL13: 12349.153 | EM13: 24428.982 | EN13: 24607.782 | EO13: 12282.375 | EP13: 12868.596 | EQ13: 25150.971
A14: 5. | B14: Потери воды | C14: куб.м | D14: =D15+D16 -> 71739.885 | E14: =E15+E16 -> 46516.398 | F14: =F15+F16 -> 63654.678 | G14: =G15+G16 -> 110171.08 | H14: =H15+H16 -> 71739.885 | I14: =I15+I16 -> 70463.898 | J14: =J15+J16 -> 51517.307 | K14: =K15+K16 -> 121981.21 | L14: =L15+L16 -> 68469.785 | O14: =O15+O16 -> 0 | P14: =P15+P16 -> 65453.434 | Q14: =[1]Билиб!E18 -> 51411.335 | R14: =[1]Билиб!F18 -> 27496.183 | S14: =Q14+R14 -> 78907.518 | T14: =T15+T16 -> 64468.592 | U14: =U15+U16 -> 26331.898 | V14: =V15+V16 -> 19310.025 | W14: =W15+W16 -> 45641.923 | X14: 57615.79 | Y14: 54211.969 | Z14: 17963.92 | AA14: 72175.889 | AB14: 1083.584 | AC14: 474 | AD14: 457 | AE14: 931 | AF14: 1083.584 | AG14: 402 | AH14: 376 | AI14: 778 | AJ14: 1024.854 | AK14: 0 | AL14: 0 | AM14: 0 | AN14: 918.19 | AO14: 392 | AP14: 360 | AQ14: 752 | AR14: 820.333 | AS14: 389 | AT14: 376 | AU14: 765 | AV14: 756.333 | AW14: 301 | AX14: 262 | AY14: 563 | AZ14: 166.464 | BA14: 84.886 | BB14: 68.836 | BC14: 153.722 | BD14: 166.464 | BE14: 69.83 | BF14: 62.89 | BG14: 132.72 | BH14: 160.267 | BI14: 0 | BJ14: 0 | BK14: 0 | BL14: 152.418 | BM14: 68.578 | BN14: 58.972 | BO14: 127.55 | BP14: 140.537 | BQ14: 64.331 | BR14: 58.718 | BS14: 123.049 | BT14: 121.55207 | BU14: 59.278 | BV14: 55.311 | BW14: 114.589 | BX14: 609.029 | BY14: 286.303 | BZ14: 254.484 | CA14: 540.787 | CB14: 609.029 | CC14: 255.889 | CD14: 254.775 | CE14: 510.664 | CF14: 575.221 | CG14: 0 | CH14: 0 | CI14: 0 | CJ14: 551.777 | CK14: 254.48 | CL14: 256.477 | CM14: 510.957 | CN14: 513.343 | CO14: 240.378 | CP14: 238.114 | CQ14: 478.492 | CR14: 477.561 | CS14: 262.978 | CT14: 257.061 | CU14: 520.039 | CV14: 386.813 | CW14: 148.72 | CX14: 139.78 | CY14: 288.5 | CZ14: 356.167 | DA14: 143.12 | DB14: 151.15 | DC14: 294.27 | DD14: 329.43 | DE14: 0 | DF14: 0 | DG14: 0 | DH14: 305.669 | DI14: 131.19 | DJ14: 130.17 | DK14: 261.36 | DL14: 289.037 | DM14: 132.53 | DN14: 102.26 | DO14: 234.79 | DP14: 255.578 | DQ14: 106.18 | DR14: 108.72 | DS14: 214.9 | DT14: 660.298 | DU14: 312.288 | DV14: 311.644 | DW14: 623.932 | DX14: 660.298 | DY14: 303.097 | DZ14: 289.17 | EA14: 592.267 | EB14: 648.124 | EC14: 0 | ED14: 0 | EE14: 0 | EF14: 648.124 | EG14: 300.517 | EH14: 294.647 | EI14: 595.164 | EJ14: 602.457 | EK14: 289.917 | EL14: 296.379 | EM14: 586.296 | EN14: 578.753 | EO14: 294.778 | EP14: 308.847 | EQ14: 603.625
A15: 5.1 | B15: потери воды из водопроводной сети | C15: куб.м | D15: 71739.885 | E15: 46516.398 | F15: 63654.678 | G15: =E15+F15 -> 110171.08 | H15: =D15 -> 71739.885 | I15: 70463.898 | J15: 51517.307 | K15: =I15+J15 -> 121981.21 | L15: 68469.785 | O15: =M15+N15 -> 0 | P15: 65453.434 | Q15: =Q14 -> 51411.335 | R15: =R14 -> 27496.183 | S15: =Q15+R15 -> 78907.518 | T15: 64468.592 | U15: 26331.898 | V15: 19310.025 | W15: =U15+V15 -> 45641.923 | X15: 57615.79 | Y15: 54211.969 | Z15: 17963.92 | AA15: 72175.889 | AB15: 1083.584 | AC15: 474 | AD15: 457 | AE15: 931 | AF15: 1083.584 | AG15: 402 | AH15: 376 | AI15: 778 | AJ15: 1024.854 | AM15: 0 | AN15: 918.19 | AO15: 392 | AP15: 360 | AQ15: 752 | AR15: 820.333 | AS15: 389 | AT15: 376 | AU15: 765 | AV15: 756.333 | AW15: 301 | AX15: 262 | AY15: 563 | AZ15: 166.464 | BA15: 84.886 | BB15: 68.836 | BC15: 153.722 | BD15: 166.464 | BE15: 69.83 | BF15: 62.89 | BG15: 132.72 | BH15: 160.267 | BK15: 0 | BL15: 152.418 | BM15: 68.578 | BN15: 58.972 | BO15: 127.55 | BP15: 140.537 | BQ15: 64.331 | BR15: 58.718 | BS15: 123.049 | BT15: 121.55207 | BU15: 59.278 | BV15: 55.311 | BW15: 114.589 | BX15: 609.029 | BY15: 286.303 | BZ15: 254.484 | CA15: 540.787 | CB15: 609.029 | CC15: 255.889 | CD15: 254.775 | CE15: 510.664 | CF15: 575.221 | CI15: 0 | CJ15: 551.777 | CK15: 254.48 | CL15: 256.477 | CM15: 510.957 | CN15: 513.343 | CO15: 240.378 | CP15: 238.114 | CQ15: 478.492 | CR15: 477.561 | CS15: 262.978 | CT15: 257.061 | CU15: 520.039 | CV15: 386.813 | CW15: 148.72 | CX15: 139.78 | CY15: 288.5 | CZ15: 356.167 | DA15: 143.12 | DB15: 151.15 | DC15: 294.27 | DD15: 329.43 | DG15: 0 | DH15: 305.669 | DI15: 131.19 | DJ15: 130.17 | DK15: 261.36 | DL15: 289.037 | DM15: 132.53 | DN15: 102.26 | DO15: 234.79 | DP15: 255.578 | DQ15: 106.18 | DR15: 108.72 | DS15: 214.9 | DT15: 660.298 | DU15: 312.288 | DV15: 311.644 | DW15: 623.932 | DX15: 660.298 | DY15: 303.097 | DZ15: 289.17 | EA15: 592.267 | EB15: 648.124 | EE15: 0 | EF15: 648.124 | EG15: 300.517 | EH15: 294.647 | EI15: 595.164 | EJ15: 602.457 | EK15: 289.917 | EL15: 296.379 | EM15: 586.296 | EN15: 578.753 | EO15: 294.778 | EP15: 308.847 | EQ15: 603.625
A16: 5.2 | B16: неучтенные расходы воды | C16: куб.м | G16: =E16+F16 -> 0 | K16: =I16+J16 -> 0 | O16: =M16+N16 -> 0 | S16: =Q16+R16 -> 0 | W16: =U16+V16 -> 0 | AE16: 0 | AI16: 0 | AM16: 0 | AQ16: 0 | AU16: 0 | BC16: 0 | BG16: 0 | BK16: 0 | BO16: 0 | BS16: 0 | CE16: 0 | CI16: 0 | CM16: 0 | CQ16: 0 | CU16: 0 | DC16: 0 | DG16: 0 | DK16: 0 | DO16: 0 | DS16: 0 | EA16: 0 | EE16: 0 | EI16: 0 | EM16: 0
A17: 6. | B17: Полезный отпуск питьевой воды, всего | C17: куб.м | D17: =D13-D14 -> 1064147.1 | E17: =E13-E14 -> 488018.45 | F17: =F13-F14 -> 425208.18 | G17: =G13-G14 -> 913226.63 | H17: =H13-H14 -> 1064147.1 | I17: =I13-I14 -> 469534.97 | J17: =J13-J14 -> 416871.04 | K17: =K13-K14 -> 886406.01 | ... W17: =W13-W14 -> 846337.32 | X17: 854618.59 | Y17: 419339.25 | Z17: 396151.01 | AA17: 815490.26 | AB17: 38538.103 | AC17: 17217.814 | AD17: 16446.099 | AE17: 33663.913 | AF17: 38538.103 | AG17: 14477.023 | AH17: 13556.44 | AI17: 28033.463 | AJ17: 36449.343 | AK17: 0 | AL17: 0 | AM17: 0 | AN17: 32655.782 | AO17: 14115.509 | AP17: 12984.33 | AQ17: 27099.839 | AR17: 29603.371 | AS17: 14041.088 | AT17: 13555.88 | AU17: 27596.968 | AV17: 27269.85 | AW17: 10875.609 | AX17: 9450.493 | AY17: 20326.102 | AZ17: 19517.87 | BA17: 9549.796 | BB17: 8535.613 | BC17: 18085.409 | BD17: 19517.87 | BE17: 8658.844 | BF17: 7798.343 | BG17: 16457.187 | BH17: 18791.3 | BI17: 0 | BJ17: 0 | BK17: 0 | BL17: 17870.928 | BM17: 8503.497 | BN17: 7312.782 | BO17: 15816.279 | BP17: 17101.059 | BQ17: 7977.071 | BR17: 7281.059 | BS17: 15258.13 | BT17: 15944.997 | BU17: 7350.414 | BV17: 6858.554 | BW17: 14208.968 | BX17: 31800.918 | BY17: 14896.262 | BZ17: 13238.161 | CA17: 28134.423 | CB17: 31800.918 | CC17: 13211.923 | CD17: 13154.444 | CE17: 26366.367 | CF17: 30035.608 | CG17: 0 | CH17: 0 | CI17: 0 | CJ17: 28811.449 | CK17: 13067.743 | CL17: 13242.313 | CM17: 26310.056 | CN17: 26575.607 | CO17: 12411.087 | CP17: 12294.185 | CQ17: 24705.272 | CR17: 25413.786 | CS17: 13578.014 | CT17: 13272.48 | CU17: 26850.494 | CV17: 26289.789 | CW17: 10116.31 | CX17: 9603.704 | CY17: 19720.014 | CZ17: 24207.054 | DA17: 9542.104 | DB17: 10076.838 | DC17: 19618.942 | DD17: 22389.858 | DE17: 0 | DF17: 0 | DG17: 0 | DH17: 20774.845 | DI17: 8746.024 | DJ17: 8677.578 | DK17: 17423.602 | DL17: 19431.771 | DM17: 8835.618 | DN17: 6817.212 | DO17: 15652.83 | DP17: 17348.848 | DQ17: 7078.752 | DR17: 7247.431 | DS17: 14326.183 | DT17: 26815.473 | DU17: 12699.683 | DV17: 12673.501 | DW17: 25373.184 | DX17: 26815.473 | DY17: 12325.956 | DZ17: 11759.584 | EA17: 24085.54 | EB17: 26321.088 | EC17: 0 | ED17: 0 | EE17: 0 | EF17: 26321.088 | EG17: 12221.02 | EH17: 11982.3 | EI17: 24203.32 | EJ17: 24499.91 | EK17: 11789.912 | EL17: 12052.774 | EM17: 23842.686 | EN17: 24029.029 | EO17: 11987.597 | EP17: 12559.749 | EQ17: 24547.346
A18: 6.1. | B18: в т.ч. межцеховый оборот: | C18: куб.м | D18: =D19+D20+D21 -> 727929.97 | E18: =E19+E20+E21 -> 312297.93 | F18: =F19+F20+F21 -> 258648.86 | G18: =G19+G20+G21 -> 570946.78 | H18: =H19+H20+H21 -> 727929.97 | I18: =I19+I20+I21 -> 300611.24 | J18: =J19+J20+J21 -> 249837.05 | K18: =K19+K20+K21 -> 550448.29 | L18: 663809.05 | O18: =O19+O20+O21 -> 0 | P18: =P19+P20+P21 -> 621768.09 | Q18: =[1]Билиб!E22 -> 304418.46 | R18: =[1]Билиб!F22 -> 213572.18 | S18: =Q18+R18 -> 517990.64 | T18: =T19+T20+T21 -> 612655.62 | U18: =U19+U20+U21 -> 248668.71 | V18: =V19+V20+V21 -> 204910.47 | W18: =W19+W20+W21 -> 453579.18 | X18: 453579.18 | Y18: 214552.89 | Z18: 194962.83 | AA18: 409515.72 | AB18: 3749.919 | AC18: 1172.022 | AD18: 1403.661 | AE18: 2575.683 | AF18: 3749.919 | AG18: 1054.774 | AH18: 959.435 | AI18: 2014.209 | AJ18: 3174.448 | AM18: 0 | AN18: 2567.002 | AO18: 1295.186 | AP18: 1537.799 | AQ18: 2832.985 | AR18: 2198.075 | AS18: 3189.8269 | AT18: 3452.2581 | AU18: 6642.085 | AV18: 3826.47 | AW18: 2179.786 | AX18: 2514.199 | AY18: 4693.985 | AZ18: 8061.906 | BA18: 3969.983 | BB18: 3161.406 | BC18: 7131.389 | BD18: 8061.906 | BE18: 3595.615 | BF18: 2885.755 | BG18: 6481.37 | BH18: 7578.653 | BI18: 0 | BJ18: 0 | BK18: 0 | BL18: 7136.721 | BM18: 3492.042 | BN18: 2804.963 | BO18: 6297.005 | BP18: 6765.752 | BQ18: 3273.383 | BR18: 2819.836 | BS18: 6093.219 | BT18: 6358.24 | BU18: 3175.645 | BV18: 2479.73 | BW18: 5655.375 | BX18: 9707.027 | BY18: 4267.451 | BZ18: 3838.786 | CA18: 8106.237 | CB18: 9707.027 | CC18: 3841.997 | CD18: 3676.742 | CE18: 7518.739 | CF18: 8588.896 | CG18: 0 | CH18: 0 | CI18: 0 | CJ18: 8152.346 | CK18: 3662.889 | CL18: 3384.822 | CM18: 7047.711 | CN18: 7496.989 | CO18: 2952.304 | CP18: 2932.581 | CQ18: 5884.885 | CR18: 6599.529 | CS18: 3139.585 | CT18: 3028.7 | CU18: 6168.285 | CV18: 10273.637 | CW18: 3388.02 | CX18: 2774.825 | CY18: 6162.845 | CZ18: 9114.861 | DA18: 2879.182 | DB18: 3024.68 | DC18: 5903.862 | DD18: 8005.378 | DE18: 0 | DF18: 0 | DG18: 0 | DH18: 6825.483 | DI18: 2519.812 | DJ18: 2571.789 | DK18: 5091.601 | DL18: 5819.511 | DM18: 2278.296 | DN18: 2007.938 | DO18: 4286.234 | DP18: 4923.221 | DQ18: 2465.906 | DR18: 2407.507 | DS18: 4873.413 | DT18: 1931.957 | DU18: 880.676 | DV18: 941.457 | DW18: 1822.133 | DX18: 1931.957 | DY18: 907.836 | DZ18: 897.305 | EA18: 1805.141 | EB18: 1824.314 | EE18: 0 | EF18: 1824.314 | EG18: 845.892 | EH18: 914.976 | EI18: 1760.868 | EJ18: 1803.455 | EK18: 986.472 | EL18: 1417.479 | EM18: 2403.951 | EN18: 1982.637 | EO18: 1104.92 | EP18: 1059.414 | EQ18: 2164.334
A19: 6.1.1 | B19: для приготовления горячей воды | C19: куб.м | D19: 444914.46 | E19: 216396.3 | F19: 182714.94 | G19: =E19+F19 -> 399111.24 | H19: =D19 -> 444914.46 | I19: 214496.61 | J19: 185737.47 | K19: =I19+J19 -> 400234.08 | L19: 389249.89 | O19: =M19+N19 -> 0 | P19: 364597.56 | Q19: 227357.2 | R19: 174296.28 | S19: =Q19+R19 -> 401653.48 | T19: 364597.56 | U19: 200146.12 | V19: 176273.03 | W19: =U19+V19 -> 376419.15 | X19: 389783.78 | Y19: 172939.94 | Z19: 164845.7 | AA19: 337785.63 | AB19: 0 | AE19: 0 | AI19: 0 | AM19: 0 | AQ19: 0 | AU19: 0 | AZ19: 6709.623 | BA19: 3403.106 | BB19: 2518.144 | BC19: 5921.25 | BD19: 6709.623 | BE19: 3040.508 | BF19: 2267.496 | BG19: 5308.004 | BH19: 6709.623 | BK19: 0 | BL19: 6318.367 | BM19: 2929.604 | BN19: 2178.225 | BO19: 5107.829 | BP19: 5989.936 | BQ19: 2705.015 | BR19: 2194.878 | BS19: 4899.893 | BT19: 5217.0558 | BU19: 2625.096 | BV19: 1885.366 | BW19: 4510.462 | BX19: 5280.718 | BY19: 2332.129 | BZ19: 1734.038 | CA19: 4066.167 | CB19: 5280.718 | CC19: 2104.466 | CD19: 1576.285 | CE19: 3680.751 | CF19: 4308.274 | CI19: 0 | CJ19: 4089.296 | CK19: 1341.511 | CL19: 1047.637 | CM19: 2389.148 | CN19: 3760.563 | CO19: 1272.711 | CP19: 1120.87 | CQ19: 2393.581 | CR19: 2684.2508 | CS19: 1366.41 | CT19: 1047.572 | CU19: 2413.982 | CV19: 7655.489 | CW19: 2384.563 | CX19: 1716.768 | CY19: 4101.331 | CZ19: 6666.09 | DA19: 2069.978 | DB19: 1701.856 | DC19: 3771.834 | DD19: 5854.677 | DG19: 0 | DH19: 4991.769 | DI19: 1779.627 | DJ19: 1342.013 | DK19: 3121.64 | DL19: 4256.058 | DM19: 1537.472 | DN19: 1206.532 | DO19: 2744.004 | DP19: 3151.7967 | DQ19: 1544.454 | DR19: 1511.998 | DS19: 3056.452 | EA19: 0 | EB19: 0 | EE19: 0 | EF19: 0 | EI19: 0 | EM19: 0
A20: 6.1.2 | B20: для производства тепловой энергии | C20: куб.м | D20: 40065.806 | E20: 6107.7 | F20: 7761.162 | G20: =E20+F20 -> 13868.862 | H20: =D20 -> 40065.806 | I20: =219006-I19 -> 4509.3901 | J20: =195165-J19 -> 9427.528 | K20: =I20+J20 -> 13936.918 | L20: 35053.054 | O20: =M20+N20 -> 0 | P20: 32833.042 | Q20: 5501.802 | R20: 5226.721 | S20: =Q20+R20 -> 10728.523 | T20: 32833.042 | U20: 5509.231 | V20: =10743.431-U20 -> 5234.2 | W20: =U20+V20 -> 10743.431 | X20: 40062.048 | Y20: 3771.062 | Z20: 6654.304 | AA20: 10425.366 | AB20: 2875.293 | AC20: 796 | AD20: 1101 | AE20: 1897 | AF20: 2875.293 | AG20: 638 | AH20: 544 | AI20: 1182 | AJ20: 2434.0441 | AM20: 0 | AN20: 1968.278 | AO20: 1052 | AP20: 1266 | AQ20: 2318 | AR20: 1685.399 | AS20: 2709 | AT20: 2624.3 | AU20: 5333.3 | AV20: 2189 | AW20: 1952 | AX20: 2342 | AY20: 4294 | AZ20: 638.827 | BA20: 227.304 | BB20: 286.472 | BC20: 513.776 | BD20: 638.827 | BE20: 338.286 | BF20: 387.835 | BG20: 726.121 | BH20: 638.827 | BK20: 0 | BL20: 601.575 | BM20: 326.025 | BN20: 387.249 | BO20: 713.274 | BP20: 570.305 | BQ20: 237.636 | BR20: 286.472 | BS20: 524.108 | BT20: 546.90377 | BU20: 330.012 | BV20: 404.425 | BW20: 734.437 | BX20: 3774.967 | BY20: 1695.274 | BZ20: 1842.152 | CA20: 3537.426 | CB20: 3774.967 | CC20: 1625.856 | CD20: 1911.766 | CE20: 3537.622 | CF20: 3748.05 | CI20: 0 | CJ20: 3557.547 | CK20: 2106.361 | CL20: 2079.454 | CM20: 4185.815 | CN20: 3271.56 | CO20: 1480.603 | CP20: 1439.742 | CQ20: 2920.345 | CR20: 3274.9835 | CS20: 1599.604 | CT20: 1725.743 | CU20: 3325.347 | CV20: 1718 | CW20: 721.937 | CX20: 591.739 | CY20: 1313.676 | CZ20: 1856.793 | DA20: 710.554 | DB20: 1178.708 | DC20: 1889.262 | DD20: 1630.78 | DG20: 0 | DH20: 1390.423 | DI20: 698.122 | DJ20: 1126.691 | DK20: 1824.813 | DL20: 1185.496 | DM20: 666.918 | DN20: 578.584 | DO20: 1245.502 | DP20: 1430.5989 | DQ20: 692.477 | DR20: 671.059 | DS20: 1363.536 | DT20: 1133.107 | DU20: 580.006 | DV20: 606.928 | DW20: 1186.934 | DX20: 1133.107 | DY20: 560.342 | DZ20: 593.983 | EA20: 1154.325 | EB20: 1069.9736 | EE20: 0 | EF20: 1069.9736 | EG20: 557.754 | EH20: 490.338 | EI20: 1048.092 | EJ20: 1057.74 | EK20: 328.844 | EL20: 800.518 | EM20: 1129.362 | EN20: 931.43117 | EO20: 738.907 | EP20: 618.979 | EQ20: 1357.886
A21: 6.1.3 | B21: на прочие производственные нужды | C21: куб.м | D21: 242949.71 | E21: 89793.926 | F21: 68172.757 | G21: =E21+F21 -> 157966.68 | H21: =D21 -> 242949.71 | I21: =300611.236-I19-I20 -> 81605.236 | J21: =249837.055-J19-J20 -> 54672.055 | K21: =I21+J21 -> 136277.29 | L21: 239506.11 | O21: =M21+N21 -> 0 | P21: 224337.49 | Q21: =Q18-Q19-Q20 -> 71559.455 | R21: =R18-R19-R20 -> 34049.181 | S21: =Q21+R21 -> 105608.64 | T21: 215225.02 | U21: =248668.71414-U19-U20 -> 43013.363 | V21: =204910.4676-V19-V20 -> 23403.239 | W21: =U21+V21 -> 66416.602 | X21: 23733.357 | Y21: 37841.895 | Z21: 23462.829 | AA21: 61304.724 | AB21: 874.626 | AC21: 376.022 | AD21: 302.661 | AE21: 678.683 | AF21: 874.626 | AG21: 416.774 | AH21: 415.435 | AI21: 832.209 | AJ21: 740.40393 | AM21: 0 | AN21: 598.724 | AO21: 243.186 | AP21: 271.799 | AQ21: 514.985 | AR21: 512.676 | AS21: 480.82693 | AT21: 827.95807 | AU21: 1308.785 | AV21: 1637.47 | AW21: 227.786 | AX21: 172.199 | AY21: 399.985 | AZ21: 713.456 | BA21: 339.573 | BB21: 356.79 | BC21: 696.363 | BD21: 713.456 | BE21: 216.821 | BF21: 230.424 | BG21: 447.245 | BH21: 230.203 | BK21: 0 | BL21: 216.779 | BM21: 236.413 | BN21: 239.489 | BO21: 475.902 | BP21: 205.511 | BQ21: 330.732 | BR21: 338.486 | BS21: 669.218 | BT21: 594.28045 | BU21: 220.537 | BV21: 189.939 | BW21: 410.476 | BX21: 651.342 | BY21: 240.048 | BZ21: 262.596 | CA21: 502.644 | CB21: 651.342 | CC21: 111.675 | CD21: 188.691 | CE21: 300.366 | CF21: 532.572 | CI21: 0 | CJ21: 505.503 | CK21: 215.017 | CL21: 257.731 | CM21: 472.748 | CN21: 464.866 | CO21: 198.99 | CP21: 371.969 | CQ21: 570.959 | CR21: 640.29467 | CS21: 173.571 | CT21: 255.385 | CU21: 428.956 | CV21: 900.148 | CW21: 281.52 | CX21: 466.318 | CY21: 747.838 | CZ21: 591.978 | DA21: 98.65 | DB21: 144.116 | DC21: 242.766 | DD21: 519.921 | DG21: 0 | DH21: 443.291 | DI21: 42.063 | DJ21: 103.085 | DK21: 145.148 | DL21: 377.957 | DM21: 73.906 | DN21: 222.822 | DO21: 296.728 | DP21: 340.82542 | DQ21: 228.975 | DR21: 224.45 | DS21: 453.425 | DT21: 798.85 | DU21: 300.67 | DV21: 334.529 | DW21: 635.199 | DX21: 798.85 | DY21: 347.494 | DZ21: 303.322 | EA21: 650.816 | EB21: 754.34041 | EE21: 0 | EF21: 754.34041 | EG21: 288.138 | EH21: 424.638 | EI21: 712.776 | EJ21: 745.715 | EK21: 657.628 | EL21: 616.961 | EM21: 1274.589 | EN21: 1051.2058 | EO21: 366.013 | EP21: 440.435 | EQ21: 806.448
A22: 7. | B22: Отпуск питьевой воды, всего | C22: куб.м | D22: =D17-D18 -> 336217.13 | E22: =E17-E18 -> 175720.52 | F22: =F17-F18 -> 166559.32 | G22: =G17-G18 -> 342279.84 | H22: =H17-H18 -> 336217.13 | I22: =I17-I18 -> 168923.74 | J22: =J17-J18 -> 167033.98 | K22: =K17-K18 -> 335957.72 | L22: 351831.31 | M22: =M17-M18 -> 0 | N22: =N17-N18 -> 0 | O22: =O17-O18 -> 0 | P22: =P17-P18 -> 349129.5 | Q22: =Q17-Q18 -> 181947.61 | R22: =R17-R18 -> 198230.29 | S22: =S17-S18 -> 380177.9 | T22: =T17-T18 -> 343633.41 | ... W22: =W17-W18 -> 392758.14 | X22: 401039.41 | Y22: 204786.36 | Z22: 201188.18 | AA22: 405974.54 | AB22: 34788.184 | AC22: 16045.792 | AD22: 15042.438 | AE22: 31088.23 | AF22: 34788.184 | AG22: 13422.249 | AH22: 12597.005 | AI22: 26019.254 | AJ22: 33274.895 | AK22: 0 | AL22: 0 | AM22: 0 | AN22: 30088.78 | AO22: 12820.323 | AP22: 11446.531 | AQ22: 24266.854 | AR22: 27405.296 | AS22: 10851.261 | AT22: 10103.622 | AU22: 20954.883 | AV22: 23443.38 | AW22: 8695.823 | AX22: 6936.294 | AY22: 15632.117 | AZ22: 11455.964 | BA22: 5579.813 | BB22: 5374.207 | BC22: 10954.02 | BD22: 11455.964 | BE22: 5063.229 | BF22: 4912.588 | BG22: 9975.817 | BH22: 11212.647 | BI22: 0 | BJ22: 0 | BK22: 0 | BL22: 10734.207 | BM22: 5011.455 | BN22: 4507.819 | BO22: 9519.274 | BP22: 10335.307 | BQ22: 4703.688 | BR22: 4461.223 | BS22: 9164.911 | BT22: 9586.757 | BU22: 4174.769 | BV22: 4378.824 | BW22: 8553.593 | BX22: 22093.891 | BY22: 10628.811 | BZ22: 9399.375 | CA22: 20028.186 | CB22: 22093.891 | CC22: 9369.926 | CD22: 9477.702 | CE22: 18847.628 | CF22: 21446.712 | CG22: 0 | CH22: 0 | CI22: 0 | CJ22: 20659.103 | CK22: 9404.854 | CL22: 9857.491 | CM22: 19262.345 | CN22: 19078.618 | CO22: 9458.783 | CP22: 9361.604 | CQ22: 18820.387 | CR22: 18814.257 | CS22: 10438.429 | CT22: 10243.78 | CU22: 20682.209 | CV22: 16016.152 | CW22: 6728.29 | CX22: 6828.879 | CY22: 13557.169 | CZ22: 15092.193 | DA22: 6662.922 | DB22: 7052.158 | DC22: 13715.08 | DD22: 14384.48 | DE22: 0 | DF22: 0 | DG22: 0 | DH22: 13949.362 | DI22: 6226.212 | DJ22: 6105.789 | DK22: 12332.001 | DL22: 13612.26 | DM22: 6557.322 | DN22: 4809.274 | DO22: 11366.596 | DP22: 12425.627 | DQ22: 4612.846 | DR22: 4839.924 | DS22: 9452.77 | DT22: 24883.516 | DU22: 11819.007 | DV22: 11732.044 | DW22: 23551.051 | DX22: 24883.516 | DY22: 11418.12 | DZ22: 10862.279 | EA22: 22280.399 | EB22: 24496.774 | EC22: 0 | ED22: 0 | EE22: 0 | EF22: 24496.774 | EG22: 11375.128 | EH22: 11067.324 | EI22: 22442.452 | EJ22: 22696.455 | EK22: 10803.44 | EL22: 10635.295 | EM22: 21438.735 | EN22: 22046.392 | EO22: 10882.677 | EP22: 11500.335 | EQ22: 22383.012
B23: проверка | D23: =D24+D31+D34 -> 336217.13 | E23: =E24+E31+E34 -> 175720.52 | F23: =F24+F31+F34 -> 166559.32 | G23: =G24+G31+G34 -> 342279.84 | H23: =H24+H31+H34 -> 336217.13 | I23: =I24+I31+I34 -> 168923.74 | J23: =J24+J31+J34 -> 167033.98 | K23: =K24+K31+K34 -> 335957.72 | L23: 351831.31 | M23: =M24+M31+M34 -> 0 | N23: =N24+N31+N34 -> 0 | O23: =O24+O31+O34 -> 0 | P23: =P24+P31+P34 -> 349129.5 | Q23: =Q24+Q31+Q34 -> 181947.61 | R23: =R24+R31+R34 -> 198230.29 | S23: =S24+S31+S34 -> 380177.9 | T23: =T24+T31+T34 -> 343633.41 | ... W23: =W24+W31+W34 -> 392758.14 | X23: 401039.41 | Y23: 204786.36 | Z23: 201188.18 | AA23: 405974.54 | AB23: 34788.184 | AC23: 16045.792 | AD23: 15042.438 | AE23: 31088.23 | AF23: 3610.333 | AG23: 13422.249 | AH23: 12597.005 | AI23: 26019.254 | AJ23: 33274.895 | AK23: 0 | AL23: 0 | AM23: 0 | AN23: 30088.78 | AO23: 12820.323 | AP23: 11446.531 | AQ23: 24266.854 | AR23: 27405.296 | AS23: 10851.261 | AT23: 10103.622 | AU23: 20954.883 | AV23: 23443.38 | AW23: 8695.823 | AX23: 6936.294 | AY23: 15632.117 | AZ23: 11455.964 | BA23: 5579.813 | BB23: 5374.207 | BC23: 10954.02 | BD23: 11455.964 | BE23: 5063.229 | BF23: 4912.588 | BG23: 9975.817 | BH23: 11212.647 | BI23: 0 | BJ23: 0 | BK23: 0 | BL23: 10734.207 | BM23: 5011.455 | BN23: 4507.819 | BO23: 9519.274 | BP23: 10335.307 | BQ23: 4703.688 | BR23: 4461.223 | BS23: 9164.911 | BT23: 9586.757 | BU23: 4174.769 | BV23: 4378.824 | BW23: 8553.593 | BX23: 22093.891 | BY23: 10628.811 | BZ23: 9399.375 | CA23: 20028.186 | CB23: 22093.891 | CC23: 9369.926 | CD23: 9477.702 | CE23: 18847.628 | CF23: 21446.712 | CG23: 0 | CH23: 0 | CI23: 0 | CJ23: 20659.103 | CK23: 9404.854 | CL23: 9857.491 | CM23: 19262.345 | CN23: 19078.618 | CO23: 9458.783 | CP23: 9361.604 | CQ23: 18820.387 | CR23: 18814.257 | CS23: 10438.429 | CT23: 10243.78 | CU23: 20682.209 | CV23: 16016.152 | CW23: 6728.29 | CX23: 6828.879 | CY23: 13557.169 | CZ23: 15092.193 | DA23: 6662.922 | DB23: 7052.158 | DC23: 13715.08 | DD23: 14384.48 | DE23: 0 | DF23: 0 | DG23: 0 | DH23: 13949.362 | DI23: 6226.212 | DJ23: 6105.789 | DK23: 12332.001 | DL23: 13612.26 | DM23: 6557.322 | DN23: 4809.274 | DO23: 11366.596 | DP23: 12425.627 | DQ23: 4612.846 | DR23: 4839.924 | DS23: 9452.77 | DT23: 24883.512 | DU23: 11819.007 | DV23: 11732.044 | DW23: 23551.051 | DX23: 24883.512 | DY23: 11418.12 | DZ23: 10862.279 | EA23: 22280.399 | EB23: 24496.774 | EC23: 0 | ED23: 0 | EE23: 0 | EF23: 24496.774 | EG23: 11375.128 | EH23: 11067.324 | EI23: 22442.452 | EJ23: 22696.455 | EK23: 10803.44 | EL23: 10635.295 | EM23: 21438.735 | EN23: 22046.392 | EO23: 10882.677 | EP23: 11500.335 | EQ23: 22383.012
A24: 7.1. | B24: в т.ч. населению: | C24: куб.м | D24: =D25+D28 -> 260299.86 | E24: =E25+E28 -> 141054.51 | F24: =F25+F28 -> 136714.1 | G24: =G25+G28 -> 277768.61 | H24: =H25+H28 -> 260299.86 | I24: =I25+I28 -> 139909.05 | J24: =J25+J28 -> 136179.39 | K24: =K25+K28 -> 276088.44 | L24: 278417.88 | M24: =M25+M28 -> 0 | N24: =N25+N28 -> 0 | O24: =O25+O28 -> 0 | P24: =P25+P28 -> 281540.24 | Q24: =Q25+Q28 -> 143811.62 | R24: =R25+R28 -> 144970.88 | S24: =S25+S28 -> 288782.5 | T24: =T25+T28 -> 276450.83 | ... W24: =W25+W28 -> 283915.94 | X24: 286755.1 | Y24: 146188.57 | Z24: 144281.5 | AA24: 290470.07 | AB24: 31177.851 | AC24: 14657.792 | AD24: 13948.438 | AE24: 28606.23 | AF24: 0 | AG24: 12236.249 | AH24: 11712.005 | AI24: 23948.254 | AJ24: 30060.228 | AK24: 0 | AL24: 0 | AM24: 0 | AN24: 27659.113 | AO24: 11534.323 | AP24: 10459.531 | AQ24: 21993.854 | AR24: 25192.296 | AS24: 9764.2611 | AT24: 9330.6219 | AU24: 19094.883 | AV24: 21370.38 | AW24: 7868.023 | AX24: 6257.494 | AY24: 14125.517 | AZ24: 10410.964 | BA24: 5042.813 | BB24: 5036.207 | BC24: 10079.02 | BD24: 10410.964 | BE24: 4804.229 | BF24: 4547.759 | BG24: 9351.988 | BH24: 10201.647 | BI24: 0 | BJ24: 0 | BK24: 0 | BL24: 9862.264 | BM24: 4651.289 | BN24: 4197.216 | BO24: 8848.505 | BP24: 9631.57 | BQ24: 4188.592 | BR24: 4117.189 | BS24: 8305.781 | BT24: 8872.663 | BU24: 3959.369 | BV24: 3829.998 | BW24: 7789.367 | BX24: 18128.589 | BY24: 8847.311 | BZ24: 8336.375 | CA24: 17183.686 | CB24: 18128.589 | CC24: 8523.926 | CD24: 8310.202 | CE24: 16834.128 | CF24: 17954.112 | CG24: 0 | CH24: 0 | CI24: 0 | CJ24: 17572.751 | CK24: 8551.354 | CL24: 8815.491 | CM24: 17366.845 | CN24: 16835.618 | CO24: 8421.783 | CP24: 8409.604 | CQ24: 16831.387 | CR24: 16895.757 | CS24: 8869.0972 | CT24: 8793.231 | CU24: 17662.328 | CV24: 12713.486 | CW24: 4731.29 | CX24: 4161.879 | CY24: 8893.169 | CZ24: 11499.526 | DA24: 4064.922 | DB24: 3870.158 | DC24: 7935.08 | DD24: 10267.48 | DE24: 0 | DF24: 0 | DG24: 0 | DH24: 9117.551 | DI24: 3310.212 | DJ24: 3562.789 | DK24: 6873.001 | DL24: 8054.593 | DM24: 3620.322 | DN24: 3087.23 | DO24: 6707.552 | DP24: 6972.028 | DQ24: 3457.846 | DR24: 3330.924 | DS24: 6788.77 | DT24: 23565.516 | DU24: 11127.007 | DV24: 11108.044 | DW24: 22235.051 | DX24: 23565.516 | DY24: 10968.12 | DZ24: 10157.279 | EA24: 21125.399 | EB24: 23160.774 | EC24: 0 | ED24: 0 | EE24: 0 | EF24: 23160.774 | EG24: 10322.128 | EH24: 10079.324 | EI24: 20401.452 | EJ24: 21398.989 | EK24: 9955.44 | EL24: 9672.295 | EM24: 19627.735 | EN24: 20288.568 | EO24: 9966.477 | EP24: 10612.135 | EQ24: 20578.612
B25: городскому | C25: куб.м | D25: 260299.86 | E25: =E26+E27 -> 141054.51 | F25: =F26+F27 -> 136714.1 | G25: =G26+G27 -> 277768.61 | H25: =H26+H27 -> 260299.86 | I25: =I26+I27 -> 139909.05 | J25: =J26+J27 -> 136179.39 | K25: =K26+K27 -> 276088.44 | L25: 278417.88 | M25: =M26+M27 -> 0 | N25: =N26+N27 -> 0 | O25: =O26+O27 -> 0 | P25: =P26+P27 -> 281540.24 | Q25: =Q26+Q27 -> 143811.62 | R25: =R26+R27 -> 144970.88 | S25: =S26+S27 -> 288782.5 | T25: =T26+T27 -> 276450.83 | ... W25: =W26+W27 -> 283915.94 | X25: 286755.1 | Y25: 146188.57 | Z25: 144281.5 | AA25: 290470.07 | AW25: 0 | AX25: 0 | AY25: 0 | BU25: 0 | BV25: 0 | BW25: 0 | CS25: 0 | CT25: 0 | CU25: 0 | DQ25: 0 | DR25: 0 | DS25: 0 | EM25: 0 | EO25: 0 | EP25: 0 | EQ25: 0
B26: - по приборам учета | C26: куб.м | D26: 34619.882 | E26: 20290.195 | F26: 20195.028 | G26: =E26+F26 -> 40485.223 | H26: =D26 -> 34619.882 | I26: 25560.124 | J26: 24096.406 | K26: =I26+J26 -> 49656.53 | L26: 37029.578 | O26: =M26+N26 -> 0 | P26: 37444.853 | Q26: =[1]Билиб!E26-Q27 -> 37250.529 | R26: =[1]Билиб!F26-R27 -> 26543.857 | S26: =Q26+R26 -> 63794.386 | T26: 36767.961 | U26: =142174.64986-U27 -> 26916.908 | V26: =141741.2874-V27 -> 40171.963 | W26: =U26+V26 -> 67088.871 | X26: 67759.76 | Y26: 31271.63 | Z26: 23695.326 | AA26: 54966.956 | EM26: 0
B27: - по нормативам | C27: куб.м | D27: 225679.98 | E27: 120764.31 | F27: 116519.07 | G27: =E27+F27 -> 237283.38 | H27: =D27 -> 225679.98 | I27: 114348.93 | J27: 112082.98 | K27: =I27+J27 -> 226431.91 | L27: 241388.3 | O27: =M27+N27 -> 0 | P27: 244095.39 | Q27: 106561.1 | R27: 118427.02 | S27: =Q27+R27 -> 224988.11 | T27: 239682.87 | U27: 115257.74 | V27: =101569.324 -> 101569.32 | W27: =U27+V27 -> 216827.07 | X27: 218995.34 | Y27: 114916.94 | Z27: 120586.17 | AA27: 235503.12 | EM27: 0
A28: 7.2. | B28: сельскому | C28: куб.м | AB28: 31177.851 | AC28: 14657.792 | AD28: 13948.438 | AE28: 28606.23 | AF28: 0 | AG28: 12236.249 | AH28: 11712.005 | AI28: 23948.254 | AJ28: 30060.228 | AK28: 0 | AL28: 0 | AM28: 0 | AN28: 27659.113 | AO28: 11534.323 | AP28: 10459.531 | AQ28: 21993.854 | AR28: 25192.296 | AS28: 9764.2611 | AT28: 9330.6219 | AU28: 19094.883 | AV28: 21370.38 | AW28: 7868.023 | AX28: 6257.494 | AY28: 14125.517 | AZ28: 10410.964 | BA28: 5042.813 | BB28: 5036.207 | BC28: 10079.02 | BD28: 10410.964 | BE28: 4804.229 | BF28: 4547.759 | BG28: 9351.988 | BH28: 10201.647 | BI28: 0 | BJ28: 0 | BK28: 0 | BL28: 9862.264 | BM28: 4651.289 | BN28: 4197.216 | BO28: 8848.505 | BP28: 9631.57 | BQ28: 4188.592 | BR28: 4117.189 | BS28: 8305.781 | BT28: 8872.663 | BU28: 3959.369 | BV28: 3829.998 | BW28: 7789.367 | BX28: 18128.589 | BY28: 8847.311 | BZ28: 8336.375 | CA28: 17183.686 | CB28: 18128.589 | CC28: 8523.926 | CD28: 8310.202 | CE28: 16834.128 | CF28: 17954.112 | CG28: 0 | CH28: 0 | CI28: 0 | CJ28: 17572.751 | CK28: 8551.354 | CL28: 8815.491 | CM28: 17366.845 | CN28: 16835.618 | CO28: 8421.783 | CP28: 8409.604 | CQ28: 16831.387 | CR28: 16895.757 | CS28: 8869.0972 | CT28: 8793.231 | CU28: 17662.328 | CV28: 12713.486 | CW28: 4731.29 | CX28: 4161.879 | CY28: 8893.169 | CZ28: 11499.526 | DA28: 4064.922 | DB28: 3870.158 | DC28: 7935.08 | DD28: 10267.48 | DE28: 0 | DF28: 0 | DG28: 0 | DH28: 9117.551 | DI28: 3310.212 | DJ28: 3562.789 | DK28: 6873.001 | DL28: 8054.593 | DM28: 3620.322 | DN28: 3087.23 | DO28: 6707.552 | DP28: 6972.028 | DQ28: 3457.846 | DR28: 3330.924 | DS28: 6788.77 | DT28: 23565.516 | DU28: 11127.007 | DV28: 11108.044 | DW28: 22235.051 | DX28: 23565.516 | DY28: 10968.12 | DZ28: 10157.279 | EA28: 21125.399 | EB28: 23160.774 | EC28: 0 | ED28: 0 | EE28: 0 | EF28: 23160.774 | EG28: 10322.128 | EH28: 10079.324 | EI28: 20401.452 | EJ28: 21398.989 | EK28: 9955.44 | EL28: 9672.295 | EM28: 19627.735 | EN28: 20288.568 | EO28: 9966.477 | EP28: 10612.135 | EQ28: 20578.612
B29: - по приборам учета | C29: куб.м | AB29: 31177.851 | AC29: 538 | AD29: 733 | AE29: 1271 | AG29: 1587 | AH29: 1737 | AI29: 3324 | AJ29: 29664.551 | AK29: 0 | AL29: 0 | AM29: 0 | AN29: 27659.113 | AO29: 9389.323 | AP29: 8734.531 | AQ29: 18123.854 | AR29: 25192.296 | AS29: 1932.7711 | AT29: 1436.2289 | AU29: 3369 | AV29: 3770.4766 | AW29: 1874 | AX29: 1462 | AY29: 3336 | AZ29: 0 | BA29: 1.571 | BB29: 18.314 | BC29: 19.885 | BE29: 29.04 | BF29: 29.752 | BG29: 58.792 | BM29: 26.834 | BN29: 36.675 | BO29: 63.509 | BQ29: 28.024 | BR29: 26.947 | BS29: 54.971 | BT29: 58.722853 | BU29: 28.234 | BV29: 41.501 | BW29: 69.735 | BX29: 1033.329 | BY29: 1307 | BZ29: 1394.01 | CA29: 2701.01 | CB29: 1033.329 | CC29: 1794 | CD29: 1818 | CE29: 3612 | CF29: 1023.384 | CI29: 0 | CJ29: 1001.646 | CK29: 2078 | CL29: 2341 | CM29: 4419 | CN29: 959.62945 | CO29: 2051 | CP29: 1942 | CQ29: 3993 | CR29: 4008.2708 | CS29: 2570 | CT29: 2468 | CU29: 5038 | CV29: 2957.157 | CY29: 0 | CZ29: 2688 | DA29: 2055.782 | DB29: 1898 | DC29: 3953.782 | DD29: 2400.011 | DG29: 0 | DH29: 2131.216 | DI29: 1565 | DJ29: 1692 | DK29: 3257 | DL29: 1882.751 | DM29: 1766 | DN29: 1228 | DO29: 2994 | DP29: 3112.0522 | DQ29: 849 | DR29: 962 | DS29: 1811 | DT29: 23565.516 | DU29: 0 | DV29: 46 | DW29: 46 | DX29: 23565.516 | DY29: 100 | DZ29: 223 | EA29: 323 | EE29: 0 | EG29: 446 | EH29: 379 | EI29: 825 | EJ29: 21398.989 | EK29: 400 | EL29: 398 | EM29: 798 | EO29: 403 | EP29: 327 | EQ29: 730
B30: - по нормативам | C30: куб.м | AB30: 0 | AC30: 14119.792 | AD30: 13215.438 | AE30: 27335.23 | AF30: 0 | AG30: 10649.249 | AH30: 9975.005 | AI30: 20624.254 | AM30: 0 | AO30: 2145 | AP30: 1725 | AQ30: 3870 | AS30: 7831.49 | AT30: 7894.393 | AU30: 15725.883 | AV30: 17599.903 | AW30: 5994.023 | AX30: 4795.494 | AY30: 10789.517 | AZ30: 10410.964 | BA30: 5041.242 | BB30: 5017.893 | BC30: 10059.135 | BD30: 10410.964 | BE30: 4775.189 | BF30: 4518.007 | BG30: 9293.196 | BH30: 10201.647 | BK30: 0 | BL30: 9862.264 | BM30: 4624.455 | BN30: 4160.541 | BO30: 8784.996 | BP30: 9631.57 | BQ30: 4160.568 | BR30: 4090.242 | BS30: 8250.81 | BT30: 8813.9401 | BU30: 3931.135 | BV30: 3788.497 | BW30: 7719.632 | BX30: 17095.26 | BY30: 7540.311 | BZ30: 6942.365 | CA30: 14482.676 | CB30: 17095.26 | CC30: 6729.926 | CD30: 6492.202 | CE30: 13222.128 | CF30: 16930.728 | CI30: 0 | CJ30: 16571.105 | CK30: 6473.354 | CL30: 6474.491 | CM30: 12947.845 | CN30: 15875.989 | CO30: 6370.783 | CP30: 6467.604 | CQ30: 12838.387 | CR30: 12887.486 | CS30: 6299.0972 | CT30: 6325.231 | CU30: 12624.328 | CV30: 9756.329 | CW30: 4731.29 | CX30: 4161.879 | CY30: 8893.169 | CZ30: 8811.526 | DA30: 2009.14 | DB30: 1972.158 | DC30: 3981.298 | DD30: 7867.469 | DG30: 0 | DH30: 6986.335 | DI30: 1745.212 | DJ30: 1870.789 | DK30: 3616.001 | DL30: 6171.842 | DM30: 1854.322 | DN30: 1859.23 | DO30: 3713.552 | DP30: 3859.9758 | DQ30: 2608.846 | DR30: 2368.924 | DS30: 4977.77 | DT30: 0 | DU30: 11127.007 | DV30: 11062.044 | DW30: 22189.051 | DX30: 0 | DY30: 10868.12 | DZ30: 9934.279 | EA30: 20802.399 | EB30: 23160.774 | EE30: 0 | EF30: 23160.774 | EG30: 9876.128 | EH30: 9700.324 | EI30: 19576.452 | EK30: 9555.44 | EL30: 9274.295 | EM30: 18829.735 | EN30: 20288.568 | EO30: 9563.477 | EP30: 10285.135 | EQ30: 19848.612
A31: 7.3 | B31: бюджетным потребителям: | C31: куб.м | D31: =D32+D33 -> 38104.989 | E31: =E32+E33 -> 20044.806 | F31: =F32+F33 -> 14578.789 | G31: =G32+G33 -> 34623.595 | H31: =H32+H33 -> 38104.989 | I31: =I32+I33 -> 11736.307 | J31: =J32+J33 -> 10379.689 | K31: =K32+K33 -> 22115.996 | L31: 41460.453 | M31: =M32+M33 -> 0 | N31: =N32+N33 -> 0 | O31: =O32+O33 -> 0 | P31: =P32+P33 -> 34543.757 | Q31: =Q32+Q33 -> 14231.076 | R31: =R32+R33 -> 14633.802 | S31: =S32+S33 -> 28864.878 | T31: =T32+T33 -> 27920.574 | ... W31: =W32+W33 -> 30961.227 | X31: 32509.288 | Y31: 14678.098 | Z31: 12218.119 | AA31: 26896.217 | AB31: 3277 | AC31: 1224 | AD31: 932 | AE31: 2156 | AF31: 3277 | AG31: 1022 | AH31: 723 | AI31: 1745 | AJ31: 2888.667 | AK31: 0 | AL31: 0 | AM31: 0 | AN31: 2103.667 | AO31: 1156 | AP31: 862 | AQ31: 2018 | AR31: 1887 | AS31: 960 | AT31: 620 | AU31: 1580 | AV31: 1786 | AW31: 578.8 | AX31: 556.8 | AY31: 1135.6 | AZ31: 961.333 | BA31: 497 | BB31: 300 | BC31: 797 | BD31: 961.333 | BE31: 218 | BF31: 322.029 | BG31: 540.029 | BH31: 904.667 | BI31: 0 | BJ31: 0 | BK31: 0 | BL31: 766.01 | BM31: 317.185 | BN31: 271.529 | BO31: 588.714 | BP31: 623.505 | BQ31: 476.215 | BR31: 309.606 | BS31: 785.821 | BT31: 636.007 | BU31: 203.996 | BV31: 533.836 | BW31: 737.832 | BX31: 3171 | BY31: 1199 | BZ31: 660 | CA31: 1859 | CB31: 3171 | CC31: 466 | CD31: 768 | CE31: 1234 | CF31: 2243.667 | CG31: 0 | CH31: 0 | CI31: 0 | CJ31: 1872 | CK31: 499 | CL31: 637 | CM31: 1136 | CN31: 1410.333 | CO31: 698 | CP31: 594 | CQ31: 1292 | CR31: 1188.667 | CS31: 606 | CT31: 403 | CU31: 1009 | CV31: 3028.333 | CW31: 1875 | CX31: 2428 | CY31: 4303 | CZ31: 3308 | DA31: 2328 | DB31: 2484 | DC31: 4812 | DD31: 3805 | DE31: 0 | DF31: 0 | DG31: 0 | DH31: 4280 | DI31: 2862 | DJ31: 2472 | DK31: 5334 | DL31: 4946.333 | DM31: 2849 | DN31: 1665.044 | DO31: 4514.044 | DP31: 5190.681 | DQ31: 1059 | DR31: 1437 | DS31: 2496 | DT31: 1104.996 | DU31: 539 | DV31: 518 | DW31: 1057 | DX31: 1104.996 | DY31: 395 | DZ31: 652 | EA31: 1047 | EB31: 1106.667 | EC31: 0 | ED31: 0 | EE31: 0 | EF31: 1106.667 | EG31: 591 | EH31: 691 | EI31: 1282 | EJ31: 1092.8 | EK31: 593 | EL31: 551 | EM31: 1144 | EN31: 1200.133 | EO31: 858.2 | EP31: 845.2 | EQ31: 1703.4
B32: - по приборам учета | C32: куб.м | D32: 36340.728 | E32: =18676.146+401.66 -> 19077.806 | F32: =11868.447+464.342 -> 12332.789 | G32: =E32+F32 -> 31410.595 | H32: =D32 -> 36340.728 | I32: 10892.307 | J32: 9533.689 | K32: =I32+J32 -> 20425.996 | L32: 39540.834 | O32: =M32+N32 -> 0 | P32: 32944.381 | Q32: =[1]Билиб!E28-Q33 -> 13468.076 | R32: =[1]Билиб!F28-R33 -> 14122.802 | S32: =Q32+R32 -> 27590.878 | T32: 26627.851 | U32: =15915.989-U33 -> 15628.989 | V32: =15045.238-V33 -> 14654.238 | W32: =U32+V32 -> 30283.227 | X32: 31797.388 | Y32: 14494.098 | Z32: 12037.119 | AA32: 26531.217 | AB32: 2526.239 | AC32: 1073 | AD32: 781 | AE32: 1854 | AF32: 2526.239 | AG32: 869 | AH32: 669 | AI32: 1538 | AJ32: 2526.239 | AM32: 0 | AN32: 1621.717 | AO32: 1121 | AP32: 826 | AQ32: 1947 | AR32: 1454.6884 | AS32: 919 | AT32: 578 | AU32: 1497 | AV32: 1692.1785 | AW32: 542 | AX32: 520 | AY32: 1062 | AZ32: 17.189 | BA32: 26 | BB32: 158 | BC32: 184 | BD32: 17.189 | BE32: 200 | BF32: 314.029 | BG32: 514.029 | BH32: 16.17579 | BK32: 0 | BL32: 13.697 | BM32: 306.185 | BN32: 263.529 | BO32: 569.714 | BP32: 11.148873 | BQ32: 465.215 | BR32: 301.606 | BS32: 766.821 | BT32: 620.62928 | BU32: 192.996 | BV32: 525.836 | BW32: 718.832 | BX32: 3145.315 | BY32: 1188 | BZ32: 652 | CA32: 1840 | CB32: 3145.315 | CC32: 455 | CD32: 760 | CE32: 1215 | CF32: 2225.493 | CI32: 0 | CJ32: 1856.837 | CK32: 488 | CL32: 629 | CM32: 1117 | CN32: 1398.9095 | CO32: 687 | CP32: 586 | CQ32: 1273 | CR32: 1171.1866 | CS32: 595 | CT32: 395 | CU32: 990 | CV32: 21.198 | CW32: 1861 | CX32: 2414 | CY32: 4275 | CZ32: 3282.667 | DA32: 2314 | DB32: 2470 | DC32: 4784 | DD32: 3775.861 | DG32: 0 | DH32: 4247.223 | DI32: 2848 | DJ32: 2458 | DK32: 5306 | DL32: 4908.453 | DM32: 2849 | DN32: 1663 | DO32: 4512 | DP32: 5188.3306 | DQ32: 1059 | DR32: 1437 | DS32: 2496 | DT32: 977.262 | DU32: 478 | DV32: 498 | DW32: 976 | DX32: 977.262 | DY32: 376 | DZ32: 639 | EA32: 1015 | EB32: 978.73984 | EE32: 0 | EF32: 978.73984 | EG32: 574 | EH32: 675 | EI32: 1249 | EJ32: 966.472 | EK32: 576 | EL32: 535 | EM32: 1111 | EO32: 841 | EP32: 378 | EQ32: 1219
B33: - расчетными способами | C33: куб.м | D33: 1764.261 | E33: 967 | F33: 2246 | G33: =E33+F33 -> 3213 | H33: =D33 -> 1764.261 | I33: 844 | J33: 846 | K33: =I33+J33 -> 1690 | L33: 1919.619 | O33: =M33+N33 -> 0 | P33: 1599.376 | Q33: 763 | R33: 511 | S33: =Q33+R33 -> 1274 | T33: 1292.7226 | U33: 287 | V33: 391 | W33: =U33+V33 -> 678 | X33: 711.89999 | Y33: 184 | Z33: 181 | AA33: 365 | AB33: 750.761 | AC33: 151 | AD33: 151 | AE33: 302 | AF33: 750.761 | AG33: 153 | AH33: 54 | AI33: 207 | AJ33: 750.761 | AM33: 0 | AN33: 481.95 | AO33: 35 | AP33: 36 | AQ33: 71 | AR33: 432.3116 | AS33: 41 | AT33: 42 | AU33: 83 | AV33: 93.821519 | AW33: 36.8 | AX33: 36.8 | AY33: 73.6 | AZ33: 944.144 | BA33: 471 | BB33: 142 | BC33: 613 | BD33: 944.144 | BE33: 18 | BF33: 8 | BG33: 26 | BH33: 888.49121 | BK33: 0 | BL33: 752.313 | BM33: 11 | BN33: 8 | BO33: 19 | BP33: 612.35613 | BQ33: 11 | BR33: 8 | BS33: 19 | BT33: 15.377717 | BU33: 11 | BV33: 8 | BW33: 19 | BX33: 25.685 | BY33: 11 | BZ33: 8 | CA33: 19 | CB33: 25.685 | CC33: 11 | CD33: 8 | CE33: 19 | CF33: 18.174 | CI33: 0 | CJ33: 15.163 | CK33: 11 | CL33: 8 | CM33: 19 | CN33: 11.423547 | CO33: 11 | CP33: 8 | CQ33: 19 | CR33: 17.480397 | CS33: 11 | CT33: 8 | CU33: 19 | CV33: 3007.135 | CW33: 14 | CX33: 14 | CY33: 28 | CZ33: 25.333 | DA33: 14 | DB33: 14 | DC33: 28 | DD33: 29.139 | DG33: 0 | DH33: 32.777 | DI33: 14 | DJ33: 14 | DK33: 28 | DL33: 37.88 | DM33: 0 | DN33: 2.044 | DO33: 2.044 | DP33: 2.3503874 | DQ33: 0 | DR33: 0 | DS33: 0 | DT33: 127.734 | DU33: 61 | DV33: 20 | DW33: 81 | DX33: 127.734 | DY33: 19 | DZ33: 13 | EA33: 32 | EB33: 127.92716 | EE33: 0 | EF33: 127.92716 | EG33: 17 | EH33: 16 | EI33: 33 | EJ33: 126.328 | EK33: 17 | EL33: 16 | EM33: 33 | EN33: 1200.133 | EO33: 17.2 | EP33: 467.2 | EQ33: 484.4
A34: 7.4 | B34: прочим потребителям | C34: куб.м | D34: =D35+D36 -> 37812.278 | E34: =E35+E36 -> 14621.209 | F34: =F35+F36 -> 15266.435 | G34: =G35+G36 -> 29887.644 | H34: =H35+H36 -> 37812.278 | I34: =I35+I36 -> 17278.376 | J34: =J35+J36 -> 20474.909 | K34: =K35+K36 -> 37753.285 | L34: 31952.979 | M34: =M35+M36 -> 0 | N34: =N35+N36 -> 0 | O34: =O35+O36 -> 0 | P34: =P35+P36 -> 33045.499 | Q34: =Q35+Q36 -> 23904.913 | R34: =R35+R36 -> 38625.609 | S34: =S35+S36 -> 62530.522 | T34: =T35+T36 -> 39262.004 | ... W34: =W35+W36 -> 77880.973 | X34: 81775.022 | Y34: 43919.687 | Z34: 44688.562 | AA34: 88608.249 | AB34: 333.333 | AC34: 164 | AD34: 162 | AE34: 326 | AF34: 333.333 | AG34: 164 | AH34: 162 | AI34: 326 | AJ34: 326 | AK34: 0 | AL34: 0 | AM34: 0 | AN34: 326 | AO34: 130 | AP34: 125 | AQ34: 255 | AR34: 326 | AS34: 127 | AT34: 153 | AU34: 280 | AV34: 287 | AW34: 249 | AX34: 122 | AY34: 371 | AZ34: 83.667 | BA34: 40 | BB34: 38 | BC34: 78 | BD34: 83.667 | BE34: 41 | BF34: 42.8 | BG34: 83.8 | BH34: 106.333 | BI34: 0 | BJ34: 0 | BK34: 0 | BL34: 105.933 | BM34: 42.981 | BN34: 39.074 | BO34: 82.055 | BP34: 80.232 | BQ34: 38.881 | BR34: 34.428 | BS34: 73.309 | BT34: 78.087 | BU34: 11.404 | BV34: 14.99 | BW34: 26.394 | BX34: 794.302 | BY34: 582.5 | BZ34: 403 | CA34: 985.5 | CB34: 794.302 | CC34: 380 | CD34: 399.5 | CE34: 779.5 | CF34: 1248.933 | CG34: 0 | CH34: 0 | CI34: 0 | CJ34: 1214.352 | CK34: 354.5 | CL34: 405 | CM34: 759.5 | CN34: 832.667 | CO34: 339 | CP34: 358 | CQ34: 697 | CR34: 729.833 | CS34: 963.332 | CT34: 1047.549 | CU34: 2010.881 | CV34: 274.333 | CW34: 122 | CX34: 239 | CY34: 361 | CZ34: 284.667 | DA34: 270 | DB34: 698 | DC34: 968 | DD34: 312 | DE34: 0 | DF34: 0 | DG34: 0 | DH34: 551.811 | DI34: 54 | DJ34: 71 | DK34: 125 | DL34: 611.334 | DM34: 88 | DN34: 57 | DO34: 145 | DP34: 262.918 | DQ34: 96 | DR34: 72 | DS34: 168 | DT34: 213 | DU34: 153 | DV34: 106 | DW34: 259 | DX34: 213 | DY34: 55 | DZ34: 53 | EA34: 108 | EB34: 229.333 | EC34: 0 | ED34: 0 | EE34: 0 | EF34: 229.333 | EG34: 462 | EH34: 297 | EI34: 759 | EJ34: 204.666 | EK34: 255 | EL34: 412 | EM34: 667 | EN34: 557.691 | EO34: 58 | EP34: 43 | EQ34: 101
B35: - по приборам учета | C35: куб.м | D35: 37362.312 | E35: =11674.753-401.66 -> 11273.093 | F35: =11837.015-464.342 -> 11372.673 | G35: =E35+F35 -> 22645.766 | H35: =D35 -> 37362.312 | I35: 16783.376 | J35: 19205.909 | K35: =I35+J35 -> 35989.285 | L35: 31572.739 | O35: =M35+N35 -> 0 | P35: 32652.258 | Q35: =[1]Билиб!E29-Q36 -> 23088.913 | R35: =[1]Билиб!F29-R36 -> 37457.609 | S35: =Q35+R35 -> 60546.522 | T35: 38794.787 | U35: =35339.429-U36 -> 34320.429 | V35: =42541.544-V36 -> 41482.544 | W35: =U35+V35 -> 75802.973 | X35: 79593.122 | Y35: 42586.687 | Z35: 43790.562 | AA35: 86377.249 | AB35: 0 | AE35: 0 | AG35: 0 | AH35: 0 | AI35: 0 | AK35: 0 | AL35: 0 | AM35: 0 | AO35: 0 | AP35: 0 | AQ35: 0 | AS35: 0 | AT35: 0 | AU35: 0 | AV35: 0 | AW35: 124 | AX35: 0 | AY35: 124 | AZ35: 7.873 | BA35: 2 | BB35: 1 | BC35: 3 | BD35: 7.873 | BE35: 3 | BF35: 5.8 | BG35: 8.8 | BH35: 10.005853 | BK35: 0 | BL35: 9.968 | BM35: 4.981 | BN35: 5.074 | BO35: 10.055 | BP35: 7.5496075 | BQ35: 3.881 | BR35: 12.428 | BS35: 16.309 | BT35: 17.371958 | BU35: 11.404 | BV35: 14.99 | BW35: 26.394 | BX35: 663.243 | BY35: 527 | BZ35: 349.5 | CA35: 876.5 | CB35: 663.243 | CC35: 349.5 | CD35: 370 | CE35: 719.5 | CF35: 1042.8604 | CI35: 0 | CJ35: 1011.186 | CK35: 324 | CL35: 376 | CM35: 700 | CN35: 693.35844 | CO35: 309 | CP35: 329 | CQ35: 638 | CR35: 668.05374 | CS35: 801.332 | CT35: 471.549 | CU35: 1272.881 | CV35: 38.078 | CW35: 98 | CX35: 200 | CY35: 298 | CZ35: 284.667 | DA35: 270 | DB35: 698 | DC35: 968 | DG35: 0 | DH35: 551.811 | DI35: 54 | DJ35: 71 | DK35: 125 | DL35: 611.334 | DM35: 88 | DN35: 57 | DO35: 145 | DP35: 262.918 | DQ35: 96 | DR35: 72 | DS35: 168 | DT35: 96.915 | DU35: 96 | DV35: 89 | DW35: 185 | DX35: 96.915 | DY35: 48 | DZ35: 40 | EA35: 88 | EB35: 104.34651 | EE35: 0 | EF35: 104.34651 | EG35: 269 | EH35: 157 | EI35: 426 | EJ35: 93.124 | EK35: 63 | EL35: 220 | EM35: 283 | EO35: 46 | EP35: 31 | EQ35: 77
B36: - расчетными способами | C36: куб.м | D36: 449.966 | E36: 3348.116 | F36: 3893.762 | G36: =E36+F36 -> 7241.878 | H36: =D36 -> 449.966 | I36: 495 | J36: 1269 | K36: =I36+J36 -> 1764 | L36: 380.24 | O36: =M36+N36 -> 0 | P36: 393.241 | Q36: 816 | R36: 1168 | S36: =Q36+R36 -> 1984 | T36: 467.21731 | U36: 1019 | V36: 1059 | W36: =U36+V36 -> 2078 | X36: 2181.9 | Y36: 1333 | Z36: 898 | AA36: 2231 | AB36: 333.333 | AC36: 164 | AD36: 162 | AE36: 326 | AF36: 333.333 | AG36: 164 | AH36: 162 | AI36: 326 | AJ36: 333.333 | AM36: 0 | AN36: 326 | AO36: 130 | AP36: 125 | AQ36: 255 | AR36: 326 | AS36: 127 | AT36: 153 | AU36: 280 | AV36: 287 | AW36: 125 | AX36: 122 | AY36: 247 | AZ36: 75.794 | BA36: 38 | BB36: 37 | BC36: 75 | BD36: 75.794 | BE36: 38 | BF36: 37 | BG36: 75 | BH36: 96.327147 | BK36: 0 | BL36: 95.965 | BM36: 38 | BN36: 34 | BO36: 72 | BP36: 72.682392 | BQ36: 35 | BR36: 22 | BS36: 57 | BT36: 60.715042 | BU36: 0 | BV36: 0 | BW36: 0 | BX36: 131.059 | BY36: 55.5 | BZ36: 53.5 | CA36: 109 | CB36: 131.059 | CC36: 30.5 | CD36: 29.5 | CE36: 60 | CF36: 206.07264 | CI36: 0 | CJ36: 203.166 | CK36: 30.5 | CL36: 29 | CM36: 59.5 | CN36: 139.30856 | CO36: 30 | CP36: 29 | CQ36: 59 | CR36: 61.779264 | CS36: 162 | CT36: 576 | CU36: 738 | CV36: 236.255 | CW36: 24 | CX36: 39 | CY36: 63 | DA36: 0 | DB36: 0 | DC36: 0 | DD36: 312 | DG36: 0 | DI36: 0 | DJ36: 0 | DK36: 0 | DM36: 0 | DN36: 0 | DO36: 0 | DP36: 0 | DQ36: 0 | DR36: 0 | DS36: 0 | DT36: 116.085 | DU36: 57 | DV36: 17 | DW36: 74 | DX36: 116.085 | DY36: 7 | DZ36: 13 | EA36: 20 | EB36: 124.98649 | EE36: 0 | EF36: 124.98649 | EG36: 193 | EH36: 140 | EI36: 333 | EJ36: 111.542 | EK36: 192 | EL36: 192 | EM36: 384 | EN36: 557.691 | EO36: 12 | EP36: 12 | EQ36: 24
X37: 2181.9 | Y37: 1333 | Z37: 898 | AA37: 2231
E38: =301912.975+282571.548-213779.194-194095.049 -> 176610.28
E39: =213779.194+194095.049 -> 407874.24
B41: для производства тепловой энергии
...

Sheet раздел 3
B1: Раздел 3. Перечень плановых мероприятий по ремонту объектов централизованных систем холодного водоснабжения, мероприятий, направленных на улучшение качества питьевой воды, мероприятий по энергосбережению и повышению энергетической эффективности, в том числе по снижению потерь воды при транспортировке
B2: 3.1. План мероприятий по ремонту объектов централизованных систем холодного водоснабжения
B3: № п/п | C3: ПЛАН | F3: ФАКТ | I3: Отклонение (- не использовано, + перерасход) | J3: Причины отклонения
C4: Наименование мероприятий | D4: Срок реализации мероприятия, лет | E4: Финансовые потребности на реализацию мероприятия, тыс.руб. | F4: Наименование мероприятий | G4: Срок реализации мероприятия, лет | H4: Финансовые потребности на реализацию мероприятия, тыс.руб.
B5: 1 | C5: 2 | D5: 3 | E5: 4 | F5: 5 | G5: 6 | H5: 7 | I5: 8 | J5: 9
B6: Участок Билибино
B7: 1. | C7: Мероприятия по текущему ремонту | D7: 2024 год | F7: Мероприятия по текущему ремонту | G7: 2024 год
